BEGIN:VCALENDAR
VERSION:2.0
PRODID:SchoolNow
CALSCALE:GREGORIAN
BEGIN:VEVENT
UID:0da0773a-01ed-11f1-903c-0238fa6a2613
DTSTAMP:20260419T103508Z
SUMMARY:Washington PTO Meeting
URL;VALUE=URI:https://www.d64.org/wes/calendar/8849335/washington-pto-meeti
 ng
DTSTART:20270909T000000Z
DTEND:20270909T010000Z
END:VEVENT
END:VCALENDAR
