BEGIN:VCALENDAR
VERSION:2.0
PRODID:SchoolNow
CALSCALE:GREGORIAN
BEGIN:VEVENT
UID:4def671a-094a-11f1-a807-0e3723f7a0a5
DTSTAMP:20260419T103508Z
SUMMARY:Washington PTO Meeting
URL;VALUE=URI:https://www.d64.org/wes/calendar/8855611/washington-pto-meeti
 ng
DTSTART:20271014T000000Z
DTEND:20271014T010000Z
END:VEVENT
END:VCALENDAR
