BEGIN:VCALENDAR
VERSION:2.0
PRODID:SchoolNow
CALSCALE:GREGORIAN
BEGIN:VEVENT
UID:cae33e28-1cfe-11f1-bb13-0a58a9feac02
DTSTAMP:20260419T103508Z
SUMMARY:Washington PTO Meeting
URL;VALUE=URI:https://www.d64.org/wes/calendar/8908905/washington-pto-meeti
 ng
DTSTART:20271111T010000Z
DTEND:20271111T020000Z
END:VEVENT
END:VCALENDAR
