BEGIN:VCALENDAR
VERSION:2.0
PRODID:SchoolNow
CALSCALE:GREGORIAN
BEGIN:VEVENT
UID:8bc008f6-33b1-11f1-a51c-0affefaaefa3
DTSTAMP:20260419T164007Z
SUMMARY:Washington PTO Meeting
URL;VALUE=URI:https://www.d64.org/wes/calendar/8980508/washington-pto-meeti
 ng
DTSTART:20271209T010000Z
DTEND:20271209T020000Z
END:VEVENT
END:VCALENDAR
